BEGIN:VCALENDAR
VERSION:2.0
PRODID:-//wp-events-plugin.com//6.4.6.4//EN
BEGIN:VEVENT
UID:36@islandbebe.com
DTSTART;TZID=Europe/Malta:20240212T083000
DTEND;TZID=Europe/Malta:20240213T083000
DTSTAMP:20240129T110256Z
URL:https://www.islandbebe.com/events/aloha-happy-kids-trolls-themed-happi
 ness-camp/
SUMMARY:Aloha Happy Kids -  Trolls Themed - Happiness Camp
DESCRIPTION:HAPPY TO ANNOUNCE REGISTRATIONS ARE OPEN FOR OUR CARNIVAL CAMP!
 \nAloha Happy Kids returns with a Carnival Camp full of colours and fun! B
 ased on the movie Trolls\, our carnival camp will be full of activities ba
 sed on the HAPPINESS at CAMPUS HUB (University of Malta)\nA full experienc
 e of the movie will be held through CRAFTS\, GROUP ACTIVITIES RELATED TO H
 APPINESS\, A PIÑATA\, RAINBOWS. STORYTELLING\, KID’S YOGA WITH MUSIC...
  and HAPPINESS all around! (COSTUMES ARE ENCOURAGED)\nChoose 1 or 2 days t
 o enrol your kid on our CARNIVAL CAMP 24' at the beautiful INDOOR space an
 d OUTDOOR garden of Campus Hub.\nAges: 4 to 8 years old\nDates: FEBRUARY 1
 2th - 13th 2024\nLocation: CAMPUS HUB (University of Malta)\nTime: doors o
 pen at 8.30 am till 12.30 pm (4 hours/day)\nTHIS IS A DROP OFF CAMP.\nPM f
 or all details and book your slot \n\n
ATTACH;FMTTYPE=image/jpeg:https://www.islandbebe.com/wp-content/uploads/20
 24/01/418889343_763247412486230_1854767168566156960_n.jpg
CATEGORIES:Family Friendly
LOCATION:Aloha Happy Kids\, Campus Hub \, Msida\, Malta
GEO:35.901979;14.48052
X-APPLE-STRUCTURED-LOCATION;VALUE=URI;X-ADDRESS=Campus Hub \, Msida\, Malta
 ;X-APPLE-RADIUS=100;X-TITLE=Aloha Happy Kids:geo:35.901979,14.48052
END:VEVENT
BEGIN:VTIMEZONE
TZID:Europe/Malta
X-LIC-LOCATION:Europe/Malta
BEGIN:STANDARD
DTSTART:20231029T020000
TZOFFSETFROM:+0200
TZOFFSETTO:+0100
TZNAME:CET
END:STANDARD
END:VTIMEZONE
END:VCALENDAR