BEGIN:VCALENDAR
VERSION:2.0
PRODID:-//wp-events-plugin.com//6.4.6.4//EN
BEGIN:VEVENT
UID:37@islandbebe.com
DTSTART;TZID=Europe/Malta:20240211T000000
DTEND;TZID=Europe/Malta:20240211T000000
DTSTAMP:20240129T110242Z
URL:https://www.islandbebe.com/events/carnival-photography-carnival-party/
SUMMARY:Carnival Photography - Carnival Party
DESCRIPTION:Carnival Dancing\n\nGames\n\nFace Paints\n\nProfessional Photo\
 n\nFood and Drink\n\nCandy
ATTACH;FMTTYPE=image/jpeg:https://www.islandbebe.com/wp-content/uploads/20
 24/01/419270483_929959315802807_6678903049942572809_n.jpg
CATEGORIES:Family Friendly
END:VEVENT
BEGIN:VTIMEZONE
TZID:Europe/Malta
X-LIC-LOCATION:Europe/Malta
BEGIN:STANDARD
DTSTART:20231029T020000
TZOFFSETFROM:+0200
TZOFFSETTO:+0100
TZNAME:CET
END:STANDARD
END:VTIMEZONE
END:VCALENDAR