BEGIN:VCALENDAR
VERSION:2.0
PRODID:-//wp-events-plugin.com//6.4.6.4//EN
BEGIN:VEVENT
UID:51@islandbebe.com
DTSTART;TZID=Europe/Malta:20240303T100000
DTEND;TZID=Europe/Malta:20240303T120000
DTSTAMP:20240227T122440Z
URL:https://www.islandbebe.com/events/craft-club-vincent-eco-estate/
SUMMARY:Craft Club: Vincent Eco Estate
DESCRIPTION:creative sessions for children of all ages and abilities will b
 e happening next Sunday morning at Vincent's Eco Estate.\nSessions will r
 un for 45 minutes each at 8e per child. Pre-booking is advised. Please get
  in touch ~ we look forward to creating with you!
ATTACH;FMTTYPE=image/jpeg:https://www.islandbebe.com/wp-content/uploads/20
 24/02/417690166_10168906992140045_7302050317091352620_n.jpg
LOCATION:Vincent Eco Estate\, Triq Sir Temi Zammit\, Mgarr\, Malta
GEO:35.917524;14.383041
X-APPLE-STRUCTURED-LOCATION;VALUE=URI;X-ADDRESS=Triq Sir Temi Zammit\, Mgar
 r\, Malta;X-APPLE-RADIUS=100;X-TITLE=Vincent Eco Estate:geo:35.917524,14.3
 83041
END:VEVENT
BEGIN:VTIMEZONE
TZID:Europe/Malta
X-LIC-LOCATION:Europe/Malta
BEGIN:STANDARD
DTSTART:20231029T020000
TZOFFSETFROM:+0200
TZOFFSETTO:+0100
TZNAME:CET
END:STANDARD
END:VTIMEZONE
END:VCALENDAR