BEGIN:VCALENDAR
VERSION:2.0
PRODID:-//wp-events-plugin.com//6.4.6.4//EN
BEGIN:VEVENT
UID:49@islandbebe.com
DTSTART;TZID=Europe/Malta:20240330T140000
DTEND;TZID=Europe/Malta:20240330T153000
DTSTAMP:20240227T120945Z
URL:https://www.islandbebe.com/events/easter-egg-hunt/
SUMMARY:Easter Egg Hunt
DESCRIPTION:Easter Egg Hunt nhar is-Sibt 30 ta’ Marzu mis-2pm sa 3.30pm\,
  kull min jixtieq jibbukja jista jagħmel dan billi iħalli ismu hawn taħ
 t jew iċempel fuq 79949583.\n\nNarawkom!
ATTACH;FMTTYPE=image/jpeg:https://www.islandbebe.com/wp-content/uploads/20
 24/02/425257878_761495919340498_1165274164984065502_n.jpg
CATEGORIES:Family Friendly
LOCATION:Socjeta Piroteknika 15 ta' Awwissu A.D 1983\, 1 Triq Santa Margeri
 ta\, Il-Mosta\, Malta
GEO:35.9108;14.431384
X-APPLE-STRUCTURED-LOCATION;VALUE=URI;X-ADDRESS=1 Triq Santa Margerita\, Il
 -Mosta\, Malta;X-APPLE-RADIUS=100;X-TITLE=Socjeta Piroteknika 15 ta' Awwis
 su A.D 1983:geo:35.9108,14.431384
END:VEVENT
BEGIN:VTIMEZONE
TZID:Europe/Malta
X-LIC-LOCATION:Europe/Malta
BEGIN:STANDARD
DTSTART:20231029T020000
TZOFFSETFROM:+0200
TZOFFSETTO:+0100
TZNAME:CET
END:STANDARD
END:VTIMEZONE
END:VCALENDAR