BEGIN:VCALENDAR
VERSION:2.0
PRODID:-//wp-events-plugin.com//6.4.6.4//EN
BEGIN:VEVENT
UID:73@islandbebe.com
DTSTART;TZID=Europe/Malta:20240401T160000
DTEND;TZID=Europe/Malta:20240401T173000
DTSTAMP:20240328T085811Z
URL:https://www.islandbebe.com/events/peppa-pigs-big-adventure/
SUMMARY:Peppa Pig's Big Adventure
DESCRIPTION:"Peppa Pig's Big Adventure" is an exciting stage show set to pr
 emiere in April 2024\, bringing the beloved Peppa Pig and her friends to l
 ife on the theatre stage. This delightful production promises a fun-filled
 \, interactive experience for young audiences and their families. Join Pep
 pa\, George\, and their pals as they embark on a thrilling adventure fille
 d with songs\, laughter\, and valuable life lessons. With colorful costume
 s\, catchy music\, and engaging storytelling\, Peppa Pig's Big Adventure 
 is sure to captivate the hearts of children and create unforgettable memor
 ies for all who attend.\n\n&nbsp\;\n\nDon't miss this charming theatrical 
 event for kids of all ages!
ATTACH;FMTTYPE=image/jpeg:https://www.islandbebe.com/wp-content/uploads/20
 24/03/430330382_7642902702421119_5852928508286135852_n.jpg
LOCATION:St Agatha's Auditorium\,   St Agatha's Auditorium\, Rabat\,   St A
 gatha's Auditorium\, Rabat\, Malta
GEO:35.880737;14.396176
X-APPLE-STRUCTURED-LOCATION;VALUE=URI;X-ADDRESS=  St Agatha's Auditorium\, 
 Rabat\,   St Agatha's Auditorium\, Rabat\, Malta;X-APPLE-RADIUS=100;X-TITL
 E=St Agatha's Auditorium:geo:35.880737,14.396176
END:VEVENT
BEGIN:VTIMEZONE
TZID:Europe/Malta
X-LIC-LOCATION:Europe/Malta
BEGIN:DAYLIGHT
DTSTART:20240331T030000
TZOFFSETFROM:+0100
TZOFFSETTO:+0200
TZNAME:CEST
END:DAYLIGHT
END:VTIMEZONE
END:VCALENDAR