BEGIN:VCALENDAR
VERSION:2.0
PRODID:-//wp-events-plugin.com//6.4.6.4//EN
BEGIN:VEVENT
UID:82@islandbebe.com
DTSTART;TZID=Europe/Malta:20240504T100000
DTEND;TZID=Europe/Malta:20240505T190000
DTSTAMP:20240422T143316Z
URL:https://www.islandbebe.com/events/playmobil-at-the-malta-baby-and-chil
 d-fair/
SUMMARY:Playmobil at the Malta\, baby and child fair
DESCRIPTION:Visit Playmobil at the MBC - Mother\, Baby &amp\; Child Fair on
  the 4th and 5th May at the Excelsior Grand hotel\, Valletta \nGet your h
 ands on the latest &amp\; classic Playmobil play sets and benefit from spe
 cial discounts while the little ones get imaginative playing in our play a
 rea 
ATTACH;FMTTYPE=image/jpeg:https://www.islandbebe.com/wp-content/uploads/20
 24/04/436392535_850496570452723_3015788510706139974_n-1.jpg
CATEGORIES:Family Friendly
LOCATION:Grand Hotel Excelsior Malta\, Great Siage Road\, Floriana\, Malta
GEO:35.895837;14.506258
X-APPLE-STRUCTURED-LOCATION;VALUE=URI;X-ADDRESS=Great Siage Road\, Floriana
 \, Malta;X-APPLE-RADIUS=100;X-TITLE=Grand Hotel Excelsior Malta:geo:35.895
 837,14.506258
END:VEVENT
BEGIN:VTIMEZONE
TZID:Europe/Malta
X-LIC-LOCATION:Europe/Malta
BEGIN:DAYLIGHT
DTSTART:20240331T030000
TZOFFSETFROM:+0100
TZOFFSETTO:+0200
TZNAME:CEST
END:DAYLIGHT
END:VTIMEZONE
END:VCALENDAR