BEGIN:VCALENDAR
VERSION:2.0
PRODID:-//wp-events-plugin.com//6.4.6.4//EN
BEGIN:VEVENT
UID:27@islandbebe.com
DTSTART;TZID=Europe/Malta:20240212T170000
DTEND;TZID=Europe/Malta:20240213T170000
DTSTAMP:20240129T110301Z
URL:https://www.islandbebe.com/events/playmobil-carnival-party/
SUMMARY:Playmobil Carnival Party
DESCRIPTION:Unleash the Fun at Carnival! Get ready for an epic Carnival par
 ty with giant games and non-stop excitement at the Playmobil FunPark!
ATTACH;FMTTYPE=image/jpeg:https://www.islandbebe.com/wp-content/uploads/20
 24/01/image.jpeg
CATEGORIES:Family Friendly
LOCATION:playmobile fun park\, HF80 Industrial Estate\, Hal Far\, Hal Far\,
  Malta
GEO:35.818058;14.510184
X-APPLE-STRUCTURED-LOCATION;VALUE=URI;X-ADDRESS=HF80 Industrial Estate\, Ha
 l Far\, Hal Far\, Malta;X-APPLE-RADIUS=100;X-TITLE=playmobile fun park:geo
 :35.818058,14.510184
END:VEVENT
BEGIN:VTIMEZONE
TZID:Europe/Malta
X-LIC-LOCATION:Europe/Malta
BEGIN:STANDARD
DTSTART:20231029T020000
TZOFFSETFROM:+0200
TZOFFSETTO:+0100
TZNAME:CET
END:STANDARD
END:VTIMEZONE
END:VCALENDAR