BEGIN:VCALENDAR
VERSION:2.0
PRODID:-//wp-events-plugin.com//6.4.6.4//EN
BEGIN:VEVENT
UID:74@islandbebe.com
DTSTART;TZID=Europe/Malta:20240405T083000
DTEND;TZID=Europe/Malta:20240405T130000
DTSTAMP:20240327T142727Z
URL:https://www.islandbebe.com/events/robocoach-easter-special/
SUMMARY:Robocoach: Easter Special
DESCRIPTION:
ATTACH;FMTTYPE=image/jpeg:https://www.islandbebe.com/wp-content/uploads/20
 24/03/434173111_915579653909460_6900584858395338030_n.jpg
LOCATION:St Martin's Collage\, St Martin's Collage\, Swatar\, Swatar\, Malt
 a
GEO:35.89763;14.479578
X-APPLE-STRUCTURED-LOCATION;VALUE=URI;X-ADDRESS=St Martin's Collage\, Swata
 r\, Swatar\, Malta;X-APPLE-RADIUS=100;X-TITLE=St Martin's Collage:geo:35.8
 9763,14.479578
END:VEVENT
BEGIN:VTIMEZONE
TZID:Europe/Malta
X-LIC-LOCATION:Europe/Malta
BEGIN:DAYLIGHT
DTSTART:20240331T030000
TZOFFSETFROM:+0100
TZOFFSETTO:+0200
TZNAME:CEST
END:DAYLIGHT
END:VTIMEZONE
END:VCALENDAR