BEGIN:VCALENDAR
VERSION:2.0
PRODID:-//wp-events-plugin.com//6.4.6.4//EN
BEGIN:VEVENT
UID:40@islandbebe.com
DTSTART;TZID=Europe/Malta:20240210T000000
DTEND;TZID=Europe/Malta:20240213T000000
DTSTAMP:20240129T110226Z
URL:https://www.islandbebe.com/events/rulina-fun-park-racing-theme-carniva
 l/
SUMMARY:Rulina Fun Park - Racing Theme Carnival
DESCRIPTION:RACING THEME CARNIVAL 2024 \nAT THE LARGEST PARK IN MALTA.\n10
 th to 13th February - Stay tuned for the time slots!\nNo need to book pay 
 at the door.\n\nEntrance to the Park ticket price.\nBabies under 1 year pa
 y €10\nToddler under 2 year pay €15\nKids from 2 to 15 years pay €18
 \n2 Free accompany Adults 16+ with every Child.\n\nUnlimited Rides\, Bounc
 ing Castles\,\nAdventure Park\, Carnival Games\, Playground\,\nUpgraded ba
 by and toddler area\, Craft Station.\nAnimation\, Organised Games and Danc
 e \nMagic Show \nFree Small Gift \nFree Popcorn \nFree Facepainting \
 nFree Parking area \n#Nik&amp\;Matt Restaurant \nRestrooms \nManaged by
  Curtain Raiser Kids Parties\nAudio System Malta Wild Strength Dancers\n
 See
ATTACH;FMTTYPE=image/jpeg:https://www.islandbebe.com/wp-content/uploads/20
 24/01/419358280_400642052321025_625523703982327029_n.jpg
CATEGORIES:Family Friendly
LOCATION:Rulina Fun Park\, Triq Ta' Ħal Farruġ\, Ħal Luqa\, Ħal Luqa\, 
 Malta
GEO:35.857292;14.469555
X-APPLE-STRUCTURED-LOCATION;VALUE=URI;X-ADDRESS=Triq Ta' Ħal Farruġ\, Ħa
 l Luqa\, Ħal Luqa\, Malta;X-APPLE-RADIUS=100;X-TITLE=Rulina Fun Park:geo:
 35.857292,14.469555
END:VEVENT
BEGIN:VTIMEZONE
TZID:Europe/Malta
X-LIC-LOCATION:Europe/Malta
BEGIN:STANDARD
DTSTART:20231029T020000
TZOFFSETFROM:+0200
TZOFFSETTO:+0100
TZNAME:CET
END:STANDARD
END:VTIMEZONE
END:VCALENDAR