BEGIN:VCALENDAR
VERSION:2.0
PRODID:-//wp-events-plugin.com//6.4.6.4//EN
BEGIN:VEVENT
UID:39@islandbebe.com
DTSTART;TZID=Europe/Malta:20240209T150000
DTEND;TZID=Europe/Malta:20240211T170000
DTSTAMP:20240129T110207Z
URL:https://www.islandbebe.com/events/second-chance-horse-rescue-carnival-
 party/
SUMMARY:Second Chance Horse Rescue - Carnival Party
DESCRIPTION: Come and Join our rescue horses and celebrate Carnival with t
 hem\nWe are open for the carnival booking\,\nBest Carnival Costume Wins a 
 price\,\nFinger foods and drinks\,\nHand feeding the Horses\,\nHorse Ridin
 g\,\nPony walks\, Animator and Music\, and much more\n\nBook your space by
  sending a pm to Second Chance Horse Rescue
ATTACH;FMTTYPE=image/jpeg:https://www.islandbebe.com/wp-content/uploads/20
 24/01/417398006_703126781802734_1472852305081873562_n.jpg
CATEGORIES:Family Friendly
LOCATION:Second Chance Rescue\, Second Chance Rescue Santa Venera \, Santa 
 Venera \, Malta
GEO:35.888949;14.478087
X-APPLE-STRUCTURED-LOCATION;VALUE=URI;X-ADDRESS=Second Chance Rescue Santa 
 Venera \, Santa Venera \, Malta;X-APPLE-RADIUS=100;X-TITLE=Second Chance R
 escue:geo:35.888949,14.478087
END:VEVENT
BEGIN:VTIMEZONE
TZID:Europe/Malta
X-LIC-LOCATION:Europe/Malta
BEGIN:STANDARD
DTSTART:20231029T020000
TZOFFSETFROM:+0200
TZOFFSETTO:+0100
TZNAME:CET
END:STANDARD
END:VTIMEZONE
END:VCALENDAR