BEGIN:VCALENDAR
VERSION:2.0
PRODID:-//wp-events-plugin.com//6.4.6.4//EN
BEGIN:VEVENT
UID:81@islandbebe.com
DTSTART;TZID=Europe/Malta:20240504T100000
DTEND;TZID=Europe/Malta:20240505T170000
DTSTAMP:20240422T130712Z
URL:https://www.islandbebe.com/events/strawberry-fest-2024/
SUMMARY:Strawberry Fest 2024
DESCRIPTION:Mark your calendars! Strawberry Fest 2024 is coming to Is-Suq t
 al-Belt! Get ready to indulge in all things strawberry - from desserts to 
 drinks and everything in between! \n Saturday and Sunday\, 4th to 5th Ma
 y Is-Suq tal-Belt - Outside\, Entrance Area Time: 10:00 AM - 5:00 PM\nSa
 ve the dates and join us for a berry-filled weekend of fun and flavour!\n#
 StrawberryFest2024 #IsSuqTalBelt #sweettreats
ATTACH;FMTTYPE=image/jpeg:https://www.islandbebe.com/wp-content/uploads/20
 24/04/420690714_847060747450448_8778474447022675727_n.jpg
CATEGORIES:Family Friendly
LOCATION:Is- Suq tal- Belt Food Market\, 33 Triq il-Merkanti\, Valletta\, V
 LT\, Malta\, Valletta\, Malta
GEO:35.896918;14.512375
X-APPLE-STRUCTURED-LOCATION;VALUE=URI;X-ADDRESS=33 Triq il-Merkanti\, Valle
 tta\, VLT\, Malta\, Valletta\, Malta;X-APPLE-RADIUS=100;X-TITLE=Is- Suq ta
 l- Belt Food Market:geo:35.896918,14.512375
END:VEVENT
BEGIN:VTIMEZONE
TZID:Europe/Malta
X-LIC-LOCATION:Europe/Malta
BEGIN:DAYLIGHT
DTSTART:20240331T030000
TZOFFSETFROM:+0100
TZOFFSETTO:+0200
TZNAME:CEST
END:DAYLIGHT
END:VTIMEZONE
END:VCALENDAR