BEGIN:VCALENDAR
VERSION:2.0
PRODID:-//wp-events-plugin.com//6.4.6.4//EN
BEGIN:VEVENT
UID:38@islandbebe.com
DTSTART;TZID=Europe/Malta:20240213T100000
DTEND;TZID=Europe/Malta:20240213T120000
DTSTAMP:20240129T110306Z
URL:https://www.islandbebe.com/events/zeffies-carnival-party/
SUMMARY:Zeffie's Carnival Party
DESCRIPTION:Mark your calendars!  Join us for our Carnival Party on Tuesd
 ay 13th February from 10am-12pm  Price includes playtime\, balloon model
 ling\, animation with Chase &amp\; Skye\, kid's meal &amp\; candy bag.\n\n
  Get in touch with us on 21 693130 to book your tickets
ATTACH;FMTTYPE=image/jpeg:https://www.islandbebe.com/wp-content/uploads/20
 24/01/420531039_883537643774945_5684601300599652838_n.jpg
CATEGORIES:Family Friendly
LOCATION:Zeffie's Bistro & Pizzeria\, Triq Il - Mina Ta' Hompesch\, Ħaż-
 Żabbar\, Ħaż-Żabbar\, Malta
GEO:35.87197;14.529765
X-APPLE-STRUCTURED-LOCATION;VALUE=URI;X-ADDRESS=Triq Il - Mina Ta' Hompesch
 \, Ħaż-Żabbar\, Ħaż-Żabbar\, Malta;X-APPLE-RADIUS=100;X-TITLE=Zeffie
 's Bistro & Pizzeria:geo:35.87197,14.529765
END:VEVENT
BEGIN:VTIMEZONE
TZID:Europe/Malta
X-LIC-LOCATION:Europe/Malta
BEGIN:STANDARD
DTSTART:20231029T020000
TZOFFSETFROM:+0200
TZOFFSETTO:+0100
TZNAME:CET
END:STANDARD
END:VTIMEZONE
END:VCALENDAR